BEGIN:VCALENDAR
VERSION:2.0
PRODID:-//Discovery Centre - ECPv6.15.15//NONSGML v1.0//EN
CALSCALE:GREGORIAN
METHOD:PUBLISH
X-WR-CALNAME:Discovery Centre
X-ORIGINAL-URL:https://thediscoverycentre.ca
X-WR-CALDESC:Events for Discovery Centre
REFRESH-INTERVAL;VALUE=DURATION:PT1H
X-Robots-Tag:noindex
X-PUBLISHED-TTL:PT1H
BEGIN:VTIMEZONE
TZID:America/Halifax
BEGIN:DAYLIGHT
TZOFFSETFROM:-0400
TZOFFSETTO:-0300
TZNAME:ADT
DTSTART:20230312T060000
END:DAYLIGHT
BEGIN:STANDARD
TZOFFSETFROM:-0300
TZOFFSETTO:-0400
TZNAME:AST
DTSTART:20231105T050000
END:STANDARD
BEGIN:DAYLIGHT
TZOFFSETFROM:-0400
TZOFFSETTO:-0300
TZNAME:ADT
DTSTART:20240310T060000
END:DAYLIGHT
BEGIN:STANDARD
TZOFFSETFROM:-0300
TZOFFSETTO:-0400
TZNAME:AST
DTSTART:20241103T050000
END:STANDARD
BEGIN:DAYLIGHT
TZOFFSETFROM:-0400
TZOFFSETTO:-0300
TZNAME:ADT
DTSTART:20250309T060000
END:DAYLIGHT
BEGIN:STANDARD
TZOFFSETFROM:-0300
TZOFFSETTO:-0400
TZNAME:AST
DTSTART:20251102T050000
END:STANDARD
END:VTIMEZONE
BEGIN:VEVENT
DTSTART;TZID=America/Halifax:20240512T090000
DTEND;TZID=America/Halifax:20240512T160000
DTSTAMP:20260419T130709
CREATED:20240506T011151Z
LAST-MODIFIED:20240506T011151Z
UID:71990-1715504400-1715529600@thediscoverycentre.ca
SUMMARY:Free Admission for Mother Figures
DESCRIPTION:To honour the incredible mothers\, stepmothers\, grandmothers\, or any other mother figures in your life\, their admission is FREE for Mother’s Day at Discovery Centre on May 12th! Have a family-filled day of science\, fun\, and memories. \nThis offer applies May 12th\, 2024
URL:https://thediscoverycentre.ca/event/free-admission-for-mother-figures/
LOCATION:Discovery Centre\, 1215 Lower Water Street
END:VEVENT
BEGIN:VEVENT
DTSTART;TZID=America/Halifax:20240518T090000
DTEND;TZID=America/Halifax:20240518T160000
DTSTAMP:20260419T130709
CREATED:20240504T154423Z
LAST-MODIFIED:20240504T154423Z
UID:71986-1716022800-1716048000@thediscoverycentre.ca
SUMMARY:Astronomy Day
DESCRIPTION:Astronomy Day is coming to Discovery Centre on May 18th\, 9 am-4 pm! Join us for a stellar celebration with the science of space! Hold a meteorite in your hands\, build your own rocket and launch it into the sky\, and discover our solar system\, gravity\, and the universe through Dome Theatre shows. Plus\, join the Royal Astronomical Society of Canada for tips and tricks to viewing our stars.  \n🌙 It’s a day filled with “astronomical” excitement that’s perfect for space enthusiasts of all ages!  
URL:https://thediscoverycentre.ca/event/astronomy-day/
LOCATION:Discovery Centre\, 1215 Lower Water Street
END:VEVENT
BEGIN:VEVENT
DTSTART;TZID=America/Halifax:20240525T090000
DTEND;TZID=America/Halifax:20240525T160000
DTSTAMP:20260419T130709
CREATED:20240426T143643Z
LAST-MODIFIED:20240521T183219Z
UID:71939-1716627600-1716652800@thediscoverycentre.ca
SUMMARY:Microscape Biodiversity Day
DESCRIPTION:Come celebrate the wonders of biodiversity at Discovery Centre Saturday\, May 25th! Here’s a sneak peek of what’s in store:\n\n🔍 Scavenger Hunt: Let’s go on a wild adventure to discover the hidden treasures of biodiversity! Can you complete all the activities?\n\n🧬 Explore eDNA: Dive deep into the fascinating world of eDNA and unlock the secrets of a DNA puzzle! Decode the mysteries of life in the most “gene-ius” way possible!\n\n🌱  Meet the Experts: Special guests from Dalhousie University’s Institute of Comparative Genomics will be joining us to share their expertise on everything from viruses to soil!\n\n🔬Microscope Exploration: Take a closer look at nature’s tiniest wonders under the microscope! From intricate patterns to hidden habitats\, prepare to be amazed by the “micro-scopic” beauty all around us!\n\nActivities included in admission.
URL:https://thediscoverycentre.ca/event/microscope-biodiversity-day/
LOCATION:Discovery Centre\, 1215 Lower Water Street
END:VEVENT
END:VCALENDAR