BEGIN:VCALENDAR
VERSION:2.0
PRODID:-//Discovery Centre - ECPv6.15.15//NONSGML v1.0//EN
CALSCALE:GREGORIAN
METHOD:PUBLISH
X-ORIGINAL-URL:https://thediscoverycentre.ca
X-WR-CALDESC:Events for Discovery Centre
REFRESH-INTERVAL;VALUE=DURATION:PT1H
X-Robots-Tag:noindex
X-PUBLISHED-TTL:PT1H
BEGIN:VTIMEZONE
TZID:America/Halifax
BEGIN:DAYLIGHT
TZOFFSETFROM:-0400
TZOFFSETTO:-0300
TZNAME:ADT
DTSTART:20240310T060000
END:DAYLIGHT
BEGIN:STANDARD
TZOFFSETFROM:-0300
TZOFFSETTO:-0400
TZNAME:AST
DTSTART:20241103T050000
END:STANDARD
BEGIN:DAYLIGHT
TZOFFSETFROM:-0400
TZOFFSETTO:-0300
TZNAME:ADT
DTSTART:20250309T060000
END:DAYLIGHT
BEGIN:STANDARD
TZOFFSETFROM:-0300
TZOFFSETTO:-0400
TZNAME:AST
DTSTART:20251102T050000
END:STANDARD
BEGIN:DAYLIGHT
TZOFFSETFROM:-0400
TZOFFSETTO:-0300
TZNAME:ADT
DTSTART:20260308T060000
END:DAYLIGHT
BEGIN:STANDARD
TZOFFSETFROM:-0300
TZOFFSETTO:-0400
TZNAME:AST
DTSTART:20261101T050000
END:STANDARD
END:VTIMEZONE
BEGIN:VEVENT
DTSTART;TZID=America/Halifax:20250120T090000
DTEND;TZID=America/Halifax:20250504T160000
DTSTAMP:20260419T092207
CREATED:20250106T161125Z
LAST-MODIFIED:20250411T150339Z
UID:72842-1737363600-1746374400@thediscoverycentre.ca
SUMMARY:Dinosaur Explorer Exhibit Open
DESCRIPTION:Open January 18 – April 27: Dinosaur Explorer at Discovery Centre! 🦕 \nStep back in time and experience the ultimate dino adventure right here in #Halifax – but hurry\, it’s for a limited time only! \nOpen Wednesday – Sunday | 9 AM – 4 PM\n📍 1215 Lower Water St. \nWhat to Expect:\n🦖 Roaring\, life-like animatronic dinosaurs\n🦖 Real fossil displays\n🦖 Hands-on\, interactive games \n🎟️ Buy admission in advance: https://thediscoverycentre.ca/featured-exhibit/ \nDon’t miss this jaw-some opportunity to uncover the secrets of the past and explore the connections between dinosaurs and our world today.
URL:https://thediscoverycentre.ca/event/dinosaur-explorer-exhibit-open/
LOCATION:Discovery Centre\, 1215 Lower Water Street
END:VEVENT
BEGIN:VEVENT
DTSTART;TZID=America/Halifax:20250405T100000
DTEND;TZID=America/Halifax:20250405T150000
DTSTAMP:20260419T092207
CREATED:20250319T130249Z
LAST-MODIFIED:20250319T132225Z
UID:73222-1743847200-1743865200@thediscoverycentre.ca
SUMMARY:Oral Health Day
DESCRIPTION:Exciting News\, Halifax! Join Dalhousie School of Dental Hygiene at Discovery Centre for a fun and interactive Science of Smiles event! 🦷✨ \n📅 Date: April 5th\n⏰ Time: 10 AM – 3 PM \nExplore hands-on booths covering everything from dental hygiene to food literacy\, designed to make learning fun and engaging for all ages! \nPurchase Admission Tickets
URL:https://thediscoverycentre.ca/event/oral-health-day/
LOCATION:Discovery Centre\, 1215 Lower Water Street
END:VEVENT
BEGIN:VEVENT
DTSTART;TZID=America/Halifax:20250405T190000
DTEND;TZID=America/Halifax:20250405T220000
DTSTAMP:20260419T092207
CREATED:20250217T125834Z
LAST-MODIFIED:20250217T132022Z
UID:73074-1743879600-1743890400@thediscoverycentre.ca
SUMMARY:Science of Beer 2025
DESCRIPTION:When: Saturday\, April 5\, 7:00 pm – 10:00 pm\nWhere: Discovery Centre\, 1215 Lower Water Street\, Halifax\nMust be 19+ to attend \nScience of Beer\, presented by Discovery Centre\, helps visitors discover the science behind a good brew\, meet masters in the Nova Scotia craft brewing community\, and sample brews from across Nova Scotia. \nThe Craft Brewers Association of Nova Scotia represents 48 unique and passionate members from all corners of the province and now is your chance to meet and sample some of the best. Discover how they “raise the bar” with tried-and-true techniques and new technologies through science and innovation.    \nAlso\, learn about style characteristics\, ingredients\, and the process from Master Brewers in a facilitated experience\, and try science experiments from the Discovery Centre team. \nTickets: https://thediscoverycentre.ca/science-of-beer/
URL:https://thediscoverycentre.ca/event/science-of-beer-2025/
LOCATION:Discovery Centre\, 1215 Lower Water Street
END:VEVENT
END:VCALENDAR