BEGIN:VCALENDAR
VERSION:2.0
PRODID:-//Discovery Centre - ECPv6.15.15//NONSGML v1.0//EN
CALSCALE:GREGORIAN
METHOD:PUBLISH
X-ORIGINAL-URL:https://thediscoverycentre.ca
X-WR-CALDESC:Events for Discovery Centre
REFRESH-INTERVAL;VALUE=DURATION:PT1H
X-Robots-Tag:noindex
X-PUBLISHED-TTL:PT1H
BEGIN:VTIMEZONE
TZID:America/Halifax
BEGIN:DAYLIGHT
TZOFFSETFROM:-0400
TZOFFSETTO:-0300
TZNAME:ADT
DTSTART:20230312T060000
END:DAYLIGHT
BEGIN:STANDARD
TZOFFSETFROM:-0300
TZOFFSETTO:-0400
TZNAME:AST
DTSTART:20231105T050000
END:STANDARD
BEGIN:DAYLIGHT
TZOFFSETFROM:-0400
TZOFFSETTO:-0300
TZNAME:ADT
DTSTART:20240310T060000
END:DAYLIGHT
BEGIN:STANDARD
TZOFFSETFROM:-0300
TZOFFSETTO:-0400
TZNAME:AST
DTSTART:20241103T050000
END:STANDARD
BEGIN:DAYLIGHT
TZOFFSETFROM:-0400
TZOFFSETTO:-0300
TZNAME:ADT
DTSTART:20250309T060000
END:DAYLIGHT
BEGIN:STANDARD
TZOFFSETFROM:-0300
TZOFFSETTO:-0400
TZNAME:AST
DTSTART:20251102T050000
END:STANDARD
END:VTIMEZONE
BEGIN:VEVENT
DTSTART;TZID=America/Halifax:20240629T090000
DTEND;TZID=America/Halifax:20240630T160000
DTSTAMP:20260419T125354
CREATED:20240616T121528Z
LAST-MODIFIED:20240616T154702Z
UID:72162-1719651600-1719763200@thediscoverycentre.ca
SUMMARY:Summer Blast-Off
DESCRIPTION:Summer Vacation is almost here! Make it unforgettable with a stay-cation at Discovery Centre’s Summer Blast-Off\, June 29 and 30. Dive into a world of exciting activities both inside and out\, ALL INCLUDED IN REGULAR ADMISSION.  \n🔬 Take in wild and wonderful science shows  \n✨ Blow gigantic bubbles and play with chalk  \n🦸‍♂️ Meet Hal-con cosplayers\, Saturday from 1-4pm  \n🏒 Gear up for an immersive experience in our newest exhibit\, HOCKEY: Faster Than Ever!  \nJoin us for a weekend of scientific fun and adventure\, perfect for families and friends. \nEvent Details: \n\n1215 Lower Water Street\, Halifax\nJune 29th and 30th\, 9:00AM – 4:00PM\nTickets can be purchased online or at the door. Buy now: https://discovery-centre.myshopify.com/collections/admission-tickets
URL:https://thediscoverycentre.ca/event/summer-blast-off/
LOCATION:Discovery Centre\, 1215 Lower Water Street
END:VEVENT
END:VCALENDAR