BEGIN:VCALENDAR
VERSION:2.0
PRODID:-//Discovery Centre - ECPv6.15.15//NONSGML v1.0//EN
CALSCALE:GREGORIAN
METHOD:PUBLISH
X-WR-CALNAME:Discovery Centre
X-ORIGINAL-URL:https://thediscoverycentre.ca
X-WR-CALDESC:Events for Discovery Centre
REFRESH-INTERVAL;VALUE=DURATION:PT1H
X-Robots-Tag:noindex
X-PUBLISHED-TTL:PT1H
BEGIN:VTIMEZONE
TZID:America/Halifax
BEGIN:DAYLIGHT
TZOFFSETFROM:-0400
TZOFFSETTO:-0300
TZNAME:ADT
DTSTART:20230312T060000
END:DAYLIGHT
BEGIN:STANDARD
TZOFFSETFROM:-0300
TZOFFSETTO:-0400
TZNAME:AST
DTSTART:20231105T050000
END:STANDARD
BEGIN:DAYLIGHT
TZOFFSETFROM:-0400
TZOFFSETTO:-0300
TZNAME:ADT
DTSTART:20240310T060000
END:DAYLIGHT
BEGIN:STANDARD
TZOFFSETFROM:-0300
TZOFFSETTO:-0400
TZNAME:AST
DTSTART:20241103T050000
END:STANDARD
BEGIN:DAYLIGHT
TZOFFSETFROM:-0400
TZOFFSETTO:-0300
TZNAME:ADT
DTSTART:20250309T060000
END:DAYLIGHT
BEGIN:STANDARD
TZOFFSETFROM:-0300
TZOFFSETTO:-0400
TZNAME:AST
DTSTART:20251102T050000
END:STANDARD
END:VTIMEZONE
BEGIN:VEVENT
DTSTART;TZID=America/Halifax:20240616T090000
DTEND;TZID=America/Halifax:20240616T160000
DTSTAMP:20260419T125313
CREATED:20240604T121030Z
LAST-MODIFIED:20240604T121030Z
UID:72124-1718528400-1718553600@thediscoverycentre.ca
SUMMARY:Father's Day
DESCRIPTION:Admission for Father figures is FREE for Father’s Day on Sunday\, June 16th from 9:00am – 4:00pm only. \nCome celebrate with Discovery Centre\, and thank you for all that you do!
URL:https://thediscoverycentre.ca/event/fathers-day/
LOCATION:Discovery Centre\, 1215 Lower Water Street
END:VEVENT
END:VCALENDAR