BEGIN:VCALENDAR
VERSION:2.0
PRODID:-//Discovery Centre - ECPv6.15.15//NONSGML v1.0//EN
CALSCALE:GREGORIAN
METHOD:PUBLISH
X-ORIGINAL-URL:https://thediscoverycentre.ca
X-WR-CALDESC:Events for Discovery Centre
REFRESH-INTERVAL;VALUE=DURATION:PT1H
X-Robots-Tag:noindex
X-PUBLISHED-TTL:PT1H
BEGIN:VTIMEZONE
TZID:America/Halifax
BEGIN:DAYLIGHT
TZOFFSETFROM:-0400
TZOFFSETTO:-0300
TZNAME:ADT
DTSTART:20230312T060000
END:DAYLIGHT
BEGIN:STANDARD
TZOFFSETFROM:-0300
TZOFFSETTO:-0400
TZNAME:AST
DTSTART:20231105T050000
END:STANDARD
BEGIN:DAYLIGHT
TZOFFSETFROM:-0400
TZOFFSETTO:-0300
TZNAME:ADT
DTSTART:20240310T060000
END:DAYLIGHT
BEGIN:STANDARD
TZOFFSETFROM:-0300
TZOFFSETTO:-0400
TZNAME:AST
DTSTART:20241103T050000
END:STANDARD
BEGIN:DAYLIGHT
TZOFFSETFROM:-0400
TZOFFSETTO:-0300
TZNAME:ADT
DTSTART:20250309T060000
END:DAYLIGHT
BEGIN:STANDARD
TZOFFSETFROM:-0300
TZOFFSETTO:-0400
TZNAME:AST
DTSTART:20251102T050000
END:STANDARD
END:VTIMEZONE
BEGIN:VEVENT
DTSTART;TZID=America/Halifax:20240615T090000
DTEND;TZID=America/Halifax:20240615T160000
DTSTAMP:20260419T125434
CREATED:20240604T121242Z
LAST-MODIFIED:20240604T121242Z
UID:72126-1718442000-1718467200@thediscoverycentre.ca
SUMMARY:Dalhousie University Research Study
DESCRIPTION:Discovery Centre is partnering with Dalhousie University for a research study and they’re looking for participants to join them on Saturday\, June 15 from 9:00am – 4:00pm in our Level 3 Ghosn Room. Your family’s participation will help in Dalhousie University’s research of anxiety disorders in youth\, with a $15 gift card to Amazon and free anxiety resources for participants in the program. The study should take no more than 20-minutes of your time. \nPlease see below about the study and your involvement: \nIn today’s fast-paced world\, looking after our children’s mental well-being is crucial. Anxiety affects about 15% of Canadian youth\, a number that has increased due to the COVID-19 pandemic\, adding extra stress to our kids and teens. \nAs parents\, caregivers\, and community members\, we need to recognize the seriousness of this issue. Anxiety disorders\, like specific fears\, general worry\, and social anxiety\, can disrupt our children’s lives\, making it hard for them to enjoy school\, socialize\, or even participate in activities like sports or the arts. \nAnxiety disorders have been on the rise for the past three decades\, calling for action and deeper understanding of why our youth feel this way. Genetics play a significant role in how we handle anxiety\, but we know little about how this works in young people. Understanding more about the role genes play in anxiety disorders can help us find better ways to treat them. \nThat’s why we’re excited to introduce the GAYA Study (Genetic Architecture of Youth Anxiety). This research aims to uncover how genes contribute to anxiety disorders in young people\, helping us find better treatments. \nWe’re inviting youth aged 10-19 and their parents or guardians to join this important research. All youth experiencing anxiety at any level are welcome to participate. Taking part involves completing easy online surveys and playing interactive games on a safe app. Participants will receive a saliva kit by mail (with postage provided) and a $15 Amazon Gift Card as a thank-you for completing the study. \nFor kids facing extra anxiety who aren’t receiving help\, we’re offering access to an online program called Breathe\, proven to help teenagers aged 13 and up manage their anxiety better. \nWe understand that talking about mental health can be tough\, especially for young people. That’s why participants can skip any questions they feel uncomfortable with. While participation might not directly help them\, it could greatly impact how we support mental health in the future. By joining the GAYA Study\, you can make a real difference in understanding and tackling anxiety disorders. \nThank you for considering our study and for your ongoing support in advancing mental health research for our youth! \n\nDr. Sandra Meier and The GAYA Research Team
URL:https://thediscoverycentre.ca/event/dalhousie-university-research-study/
LOCATION:Discovery Centre\, 1215 Lower Water Street
END:VEVENT
END:VCALENDAR