BEGIN:VCALENDAR
VERSION:2.0
PRODID:-//Discovery Centre - ECPv6.15.15//NONSGML v1.0//EN
CALSCALE:GREGORIAN
METHOD:PUBLISH
X-ORIGINAL-URL:https://thediscoverycentre.ca
X-WR-CALDESC:Events for Discovery Centre
REFRESH-INTERVAL;VALUE=DURATION:PT1H
X-Robots-Tag:noindex
X-PUBLISHED-TTL:PT1H
BEGIN:VTIMEZONE
TZID:America/Halifax
BEGIN:DAYLIGHT
TZOFFSETFROM:-0400
TZOFFSETTO:-0300
TZNAME:ADT
DTSTART:20230312T060000
END:DAYLIGHT
BEGIN:STANDARD
TZOFFSETFROM:-0300
TZOFFSETTO:-0400
TZNAME:AST
DTSTART:20231105T050000
END:STANDARD
BEGIN:DAYLIGHT
TZOFFSETFROM:-0400
TZOFFSETTO:-0300
TZNAME:ADT
DTSTART:20240310T060000
END:DAYLIGHT
BEGIN:STANDARD
TZOFFSETFROM:-0300
TZOFFSETTO:-0400
TZNAME:AST
DTSTART:20241103T050000
END:STANDARD
BEGIN:DAYLIGHT
TZOFFSETFROM:-0400
TZOFFSETTO:-0300
TZNAME:ADT
DTSTART:20250309T060000
END:DAYLIGHT
BEGIN:STANDARD
TZOFFSETFROM:-0300
TZOFFSETTO:-0400
TZNAME:AST
DTSTART:20251102T050000
END:STANDARD
END:VTIMEZONE
BEGIN:VEVENT
DTSTART;TZID=America/Halifax:20240420T090000
DTEND;TZID=America/Halifax:20240421T160000
DTSTAMP:20260419T162927
CREATED:20240410T164959Z
LAST-MODIFIED:20240410T164959Z
UID:71907-1713603600-1713715200@thediscoverycentre.ca
SUMMARY:Earth Explorers Weekend
DESCRIPTION:Join Discovery Centre for Earth Explorers Weekend with the GenAction team!  \nApril 20th and 21st\, from 9:00AM – 4:00PM\, join Discovery Centre on a mission to build a more sustainable future for our planet. Get hands-on with climate action activities throughout the centre\, see a cool GenAction science demo\, explore our planet in Dome Theatre films\, dive into science with Ocean School\, and discover ways to love our Earth!  \nPLUS show us your bus pass\, same-day bus transfer\, or a picture of your bike outside of Discovery Centre\, to get 50% off your admission with climate action!  \nTickets sold online or at the door. Click for regular admission pricing. \n  \nEarth Month Resources:  \nGenAction: Did you know? There are over 40 free bilingual climate research resources you can explore this Earth Month? Visit the GenAction website for climate-focused resources (Science Spotlights) from over 30 science centres in Canada\, plus in each Science Spotlight\, there are activities that can be done at home or in school. www.genaction.ca  \n  \nEarth Month Events:  \n\nApril 18 to April 22 – Earth Fest Climate Action Fair: Click for details \nApril 20 – The People’s Parade for Life on Earth: Click for details \nApril 20 – Point Pleasant Park Earth Day Cleanup: Click for details \nApril 22 – Every One Every Day Bead a Badge for Earth Day: Click for details
URL:https://thediscoverycentre.ca/event/earth-explorers-weekend/
LOCATION:Discovery Centre\, 1215 Lower Water Street
END:VEVENT
END:VCALENDAR