BEGIN:VCALENDAR
VERSION:2.0
PRODID:-//Discovery Centre - ECPv6.15.15//NONSGML v1.0//EN
CALSCALE:GREGORIAN
METHOD:PUBLISH
X-ORIGINAL-URL:https://thediscoverycentre.ca
X-WR-CALDESC:Events for Discovery Centre
REFRESH-INTERVAL;VALUE=DURATION:PT1H
X-Robots-Tag:noindex
X-PUBLISHED-TTL:PT1H
BEGIN:VTIMEZONE
TZID:America/Halifax
BEGIN:DAYLIGHT
TZOFFSETFROM:-0400
TZOFFSETTO:-0300
TZNAME:ADT
DTSTART:20230312T060000
END:DAYLIGHT
BEGIN:STANDARD
TZOFFSETFROM:-0300
TZOFFSETTO:-0400
TZNAME:AST
DTSTART:20231105T050000
END:STANDARD
BEGIN:DAYLIGHT
TZOFFSETFROM:-0400
TZOFFSETTO:-0300
TZNAME:ADT
DTSTART:20240310T060000
END:DAYLIGHT
BEGIN:STANDARD
TZOFFSETFROM:-0300
TZOFFSETTO:-0400
TZNAME:AST
DTSTART:20241103T050000
END:STANDARD
BEGIN:DAYLIGHT
TZOFFSETFROM:-0400
TZOFFSETTO:-0300
TZNAME:ADT
DTSTART:20250309T060000
END:DAYLIGHT
BEGIN:STANDARD
TZOFFSETFROM:-0300
TZOFFSETTO:-0400
TZNAME:AST
DTSTART:20251102T050000
END:STANDARD
END:VTIMEZONE
BEGIN:VEVENT
DTSTART;TZID=America/Halifax:20240408T130000
DTEND;TZID=America/Halifax:20240408T193000
DTSTAMP:20260419T162926
CREATED:20240325T131219Z
LAST-MODIFIED:20240406T155958Z
UID:71778-1712581200-1712604600@thediscoverycentre.ca
SUMMARY:Solar Eclipse Viewing Party
DESCRIPTION:Online tickets or a membership are required for entry before 5pm\, Monday April 8. Ticket or membership holders will receive free glasses to safely enjoy the solar eclipse\, as well as indoor viewing and programming. Walk-ins are welcome from 5pm-7:30pm but are not guaranteed glasses. \nEmbark on an extraordinary journey at Discovery Centre’s Solar Eclipse Event! Be immersed in an unparalleled cosmic experience featuring special guests and a myriad of out-of-this-world activities. From engaging with experts in the field to safely observing the eclipse through solar telescopes and eclipse glasses\, you will have the opportunity to delve into the marvels of space exploration. With activities ranging from galactic scavenger hunts to hands-on learning about lunar missions and the science of space suits\, our event promises to ignite curiosity and inspire lifelong learners!   \nMonday\, April 8th\, 1:00PM – 7:30PM.\nEclipse viewing will happen at approximately 3:30PM – 5:30PM\, outside weather pending\, with live streaming inside. \n\n\nTickets Available!\n\n\nDiscovery Centre will have free safe viewing glasses available for participants while quantities last\, so book your tickets early!
URL:https://thediscoverycentre.ca/event/solar-eclipse-viewing-party/
LOCATION:Discovery Centre\, 1215 Lower Water Street
END:VEVENT
END:VCALENDAR