BEGIN:VCALENDAR
VERSION:2.0
PRODID:-//Discovery Centre - ECPv6.15.15//NONSGML v1.0//EN
CALSCALE:GREGORIAN
METHOD:PUBLISH
X-ORIGINAL-URL:https://thediscoverycentre.ca
X-WR-CALDESC:Events for Discovery Centre
REFRESH-INTERVAL;VALUE=DURATION:PT1H
X-Robots-Tag:noindex
X-PUBLISHED-TTL:PT1H
BEGIN:VTIMEZONE
TZID:America/Halifax
BEGIN:DAYLIGHT
TZOFFSETFROM:-0400
TZOFFSETTO:-0300
TZNAME:ADT
DTSTART:20220313T060000
END:DAYLIGHT
BEGIN:STANDARD
TZOFFSETFROM:-0300
TZOFFSETTO:-0400
TZNAME:AST
DTSTART:20221106T050000
END:STANDARD
BEGIN:DAYLIGHT
TZOFFSETFROM:-0400
TZOFFSETTO:-0300
TZNAME:ADT
DTSTART:20230312T060000
END:DAYLIGHT
BEGIN:STANDARD
TZOFFSETFROM:-0300
TZOFFSETTO:-0400
TZNAME:AST
DTSTART:20231105T050000
END:STANDARD
BEGIN:DAYLIGHT
TZOFFSETFROM:-0400
TZOFFSETTO:-0300
TZNAME:ADT
DTSTART:20240310T060000
END:DAYLIGHT
BEGIN:STANDARD
TZOFFSETFROM:-0300
TZOFFSETTO:-0400
TZNAME:AST
DTSTART:20241103T050000
END:STANDARD
END:VTIMEZONE
BEGIN:VEVENT
DTSTART;TZID=America/Halifax:20231003T090000
DTEND;TZID=America/Halifax:20231231T160000
DTSTAMP:20260419T125432
CREATED:20231003T125407Z
LAST-MODIFIED:20231003T125407Z
UID:71026-1696323600-1704038400@thediscoverycentre.ca
SUMMARY:Our Climate Quest
DESCRIPTION:You’re invited to choose your path to action at Discovery Centre’s new featured exhibit\, OUR CLIMATE QUEST. Explore the science of climate change in a full floor of interactive exhibits centred around youth climate action. \nBe immersed in learning\, building\, and testing sustainable solutions that affect our everyday lives.From exploring materials and how we shop\, eat\, and live to how we connect to our soils\, ecosystems\, and each other. \nExhibit Highlights \n• Choose your adventure in an interactive Climate Theatre featuring Canadian climate experts and Sheepy the Sheep voiced by Rick Mercer. \n• Play\, compete\, shop\, and reflect to discover our impacts on the environment. \n• Hear from youth taking real climate action. \n• Get hands-on with dozens of new interactives. \nOur Climate Quest is open Wednesday to Sunday\, 9am-4pm. Closing December 31.
URL:https://thediscoverycentre.ca/event/our-climate-quest/
LOCATION:Discovery Centre\, 1215 Lower Water Street
END:VEVENT
BEGIN:VEVENT
DTSTART;TZID=America/Halifax:20231109T100000
DTEND;TZID=America/Halifax:20231109T110000
DTSTAMP:20260419T125432
CREATED:20231031T142742Z
LAST-MODIFIED:20231031T143628Z
UID:71154-1699524000-1699527600@thediscoverycentre.ca
SUMMARY:Little Learners
DESCRIPTION:Ready to have a blast with your little ones? Come join the chatter on Thursday\, November 9th for “Little Language Learners!” From 10:00 AM to 11:00 AM\, we’ll dive into the fascinating world of communication between humans\, animals\, and even cool technology. \nGet ready for a jam-packed hour of creativity with crafts\, exciting robot discoveries\, fun animal games\, and a super special guest who’ll unravel the secrets of different languages. This program is tailor-made for kids aged 2 to 5\, and the best part? It’s all included in your admission fee! \nRegister Now: https://www.eventbrite.ca/e/little-language-learners-tickets-749249203537?aff=oddtdtcreator
URL:https://thediscoverycentre.ca/event/little-learners/
END:VEVENT
END:VCALENDAR